BEGIN:VCALENDAR
VERSION:2.0
PRODID:-//91.121.51.191//NONSGML kigkonsult.se iCalcreator 2.20//
CALSCALE:GREGORIAN
METHOD:PUBLISH
X-WR-CALNAME:Cycle Luxembourg
X-WR-CALDESC:Cycle Luxembourg
X-FROM-URL:https://www.cycleluxembourg.lu
X-WR-TIMEZONE:Europe/Luxembourg
BEGIN:VTIMEZONE
TZID:Europe/Luxembourg
X-LIC-LOCATION:Europe/Luxembourg
BEGIN:STANDARD
DTSTART:20171029T030000
TZOFFSETFROM:+0200
TZOFFSETTO:+0100
TZNAME:CET
END:STANDARD
BEGIN:DAYLIGHT
DTSTART:20180325T020000
TZOFFSETFROM:+0100
TZOFFSETTO:+0200
TZNAME:CEST
END:DAYLIGHT
END:VTIMEZONE
BEGIN:VEVENT
UID:ai1ec-1534@www.cycleluxembourg.lu
DTSTAMP:20171221T152637Z
CATEGORIES:
CONTACT:Cycle Luxembourg\; cycleluxembourg@gmail.com
DESCRIPTION:<p>Cycle Luxembourg is organising a cycling challenge for kids 
 at the Jardin de Circulation (mini road course) as part of this year’s Chi
 ldren’s Day event\, organised by the local Polish community.</p>\n<p>Kids 
 will have the chance to learn about how to cycle safely in the city\, and 
 complete a challenge to get their own personalised ‘cycling license’!</p>
 \n<p>For kids 3 and up. Remember to bring along your bikes!</p>\n<p>More d
 etails to come…</p>
DTSTART;TZID=Europe/Luxembourg:20150607T110000
DTEND;TZID=Europe/Luxembourg:20150607T170000
GEO:+49.643665;+5.991103
LOCATION:Jardin de Circulation at Capellen Tennis Club @ 1 Rannerwee\, 8334
  Mamer\, Luxembourg
SEQUENCE:0
SUMMARY:Kids city cycling challenge (part of Children’s Day)
URL:https://www.cycleluxembourg.lu/event/kids-city-cycling-challenge-childr
 ens-day/
END:VEVENT
END:VCALENDAR
