BEGIN:VCALENDAR
VERSION:2.0
PRODID:-//91.121.51.191//NONSGML kigkonsult.se iCalcreator 2.20//
CALSCALE:GREGORIAN
METHOD:PUBLISH
X-WR-CALNAME:Cycle Luxembourg
X-WR-CALDESC:Cycle Luxembourg
X-FROM-URL:https://www.cycleluxembourg.lu
X-WR-TIMEZONE:Europe/Luxembourg
BEGIN:VTIMEZONE
TZID:Europe/Luxembourg
X-LIC-LOCATION:Europe/Luxembourg
BEGIN:STANDARD
DTSTART:20171029T030000
TZOFFSETFROM:+0200
TZOFFSETTO:+0100
TZNAME:CET
END:STANDARD
BEGIN:DAYLIGHT
DTSTART:20180325T020000
TZOFFSETFROM:+0100
TZOFFSETTO:+0200
TZNAME:CEST
END:DAYLIGHT
END:VTIMEZONE
BEGIN:VEVENT
UID:ai1ec-1533@www.cycleluxembourg.lu
DTSTAMP:20171221T152526Z
CATEGORIES:
CONTACT:Cycle Luxembourg\; cycleluxembourg@gmail.com
DESCRIPTION:Cycle Luxembourg is giving a presentation on city cycling for e
 mployees of the European Commission at their Learning Day. If you work for
  the Commission then be sure to come!\n(Time/location to be confirmed)
DTSTART;TZID=Europe/Luxembourg:20150605T090000
DTEND;TZID=Europe/Luxembourg:20150605T093000
GEO:+49.627869;+6.153422
LOCATION:Kirchberg\, Luxembourg City\, Luxembourg
SEQUENCE:0
SUMMARY:Presentation on city cycling @ European Commission Learning Day
URL:https://www.cycleluxembourg.lu/event/city-cycling-european-commission/
X-ALT-DESC;FMTTYPE=text/html:<!DOCTYPE HTML PUBLIC '-//W3C//DTD HTML 3.2//E
 N'>\\n<HTML>\\n<HEAD>\\n<TITLE></TITLE>\\n</HEAD>\\n<BODY><p>Cycle Luxembo
 urg is giving a presentation on city cycling for employees of the European
  Commission at their Learning Day. If you work for the Commission then be 
 sure to come!</p>\n<p>(Time/location to be confirmed)</p>\n</BODY></HTML>
X-TAGS;LANGUAGE=en-US:city cycling\,Luxembourg\,presentation
END:VEVENT
END:VCALENDAR
